BEGIN:VCALENDAR
VERSION:2.0
PRODID:-//Beverly Arts Center - ECPv6.15.20//NONSGML v1.0//EN
CALSCALE:GREGORIAN
METHOD:PUBLISH
X-WR-CALNAME:Beverly Arts Center
X-ORIGINAL-URL:https://thebeverlyartscenter.com
X-WR-CALDESC:Events for Beverly Arts Center
REFRESH-INTERVAL;VALUE=DURATION:PT1H
X-Robots-Tag:noindex
X-PUBLISHED-TTL:PT1H
BEGIN:VTIMEZONE
TZID:America/Chicago
BEGIN:DAYLIGHT
TZOFFSETFROM:-0600
TZOFFSETTO:-0500
TZNAME:CDT
DTSTART:20250309T080000
END:DAYLIGHT
BEGIN:STANDARD
TZOFFSETFROM:-0500
TZOFFSETTO:-0600
TZNAME:CST
DTSTART:20251102T070000
END:STANDARD
BEGIN:DAYLIGHT
TZOFFSETFROM:-0600
TZOFFSETTO:-0500
TZNAME:CDT
DTSTART:20260308T080000
END:DAYLIGHT
BEGIN:STANDARD
TZOFFSETFROM:-0500
TZOFFSETTO:-0600
TZNAME:CST
DTSTART:20261101T070000
END:STANDARD
BEGIN:DAYLIGHT
TZOFFSETFROM:-0600
TZOFFSETTO:-0500
TZNAME:CDT
DTSTART:20270314T080000
END:DAYLIGHT
BEGIN:STANDARD
TZOFFSETFROM:-0500
TZOFFSETTO:-0600
TZNAME:CST
DTSTART:20271107T070000
END:STANDARD
END:VTIMEZONE
BEGIN:VEVENT
DTSTART;TZID=America/Chicago:20260425T190000
DTEND;TZID=America/Chicago:20260425T220000
DTSTAMP:20260419T084757
CREATED:20260121T190402Z
LAST-MODIFIED:20260321T204931Z
UID:16396-1777143600-1777154400@thebeverlyartscenter.com
SUMMARY:BAC 59th Anniversary Gala: A Night of Glitz\, Glamor and All That Jazz
DESCRIPTION:SPONSOR THE GALA HERE!\n\nBAC 59th Anniversary Gala: A Night of Glitz\, Glamor and All That Jazz\nApril 25th\, 2026  \n7pm-10pm \nRegular Price – $150  \nPatrons Under 30 – $100 \nGolden Age Patrons Over 65  – $100 \nIt will be a hot night and some swinging jazz with the coolest cats in town! Join us on April 25 for the Beverly Arts Center 59th Annual Auction: Bev Beats: Southside Streets — A Night of Glitz\, Glamor and All That Jazz! Paint the town red with Cocktails\, Music & Dancing\, Savories and Sweets\, and Live & Silent Auctions. Get your tickets now! \nTickets are $100 if purchased before March 1st and $150 after March 1st. For Young Arts Patrons under 30 and Golden Age Patrons over 65\, a special ticket rate of $75 is available until March 1. \nEvent to take place at the Beverly Arts Center. \nPURCHASE TICKETS HERE \n 
URL:https://thebeverlyartscenter.com/event/bac-59th-anniversary-gala-a-night-of-glitz-glamor-and-all-that-jazz/
LOCATION:Baffes Theatre at Beverly Arts center\, 2407 W 111th St\, Chicago\, IL\, 60605\, United States
CATEGORIES:Gala,Shows
ATTACH;FMTTYPE=image/png:https://thebeverlyartscenter.com/wp-content/uploads/2026/01/Gala-Mini-Collateral-Draft.png
END:VEVENT
END:VCALENDAR